BEGIN:VCALENDAR
VERSION:2.0
PRODID:-//Relampago del Cielo Grupo Folklorico - ECPv6.15.20//NONSGML v1.0//EN
CALSCALE:GREGORIAN
METHOD:PUBLISH
X-WR-CALNAME:Relampago del Cielo Grupo Folklorico
X-ORIGINAL-URL:https://rdcgf.org
X-WR-CALDESC:Events for Relampago del Cielo Grupo Folklorico
REFRESH-INTERVAL;VALUE=DURATION:PT1H
X-Robots-Tag:noindex
X-PUBLISHED-TTL:PT1H
BEGIN:VTIMEZONE
TZID:America/Los_Angeles
BEGIN:DAYLIGHT
TZOFFSETFROM:-0800
TZOFFSETTO:-0700
TZNAME:PDT
DTSTART:20230312T100000
END:DAYLIGHT
BEGIN:STANDARD
TZOFFSETFROM:-0700
TZOFFSETTO:-0800
TZNAME:PST
DTSTART:20231105T090000
END:STANDARD
BEGIN:DAYLIGHT
TZOFFSETFROM:-0800
TZOFFSETTO:-0700
TZNAME:PDT
DTSTART:20240310T100000
END:DAYLIGHT
BEGIN:STANDARD
TZOFFSETFROM:-0700
TZOFFSETTO:-0800
TZNAME:PST
DTSTART:20241103T090000
END:STANDARD
BEGIN:DAYLIGHT
TZOFFSETFROM:-0800
TZOFFSETTO:-0700
TZNAME:PDT
DTSTART:20250309T100000
END:DAYLIGHT
BEGIN:STANDARD
TZOFFSETFROM:-0700
TZOFFSETTO:-0800
TZNAME:PST
DTSTART:20251102T090000
END:STANDARD
BEGIN:DAYLIGHT
TZOFFSETFROM:-0800
TZOFFSETTO:-0700
TZNAME:PDT
DTSTART:20260308T100000
END:DAYLIGHT
BEGIN:STANDARD
TZOFFSETFROM:-0700
TZOFFSETTO:-0800
TZNAME:PST
DTSTART:20261101T090000
END:STANDARD
BEGIN:DAYLIGHT
TZOFFSETFROM:-0800
TZOFFSETTO:-0700
TZNAME:PDT
DTSTART:20270314T100000
END:DAYLIGHT
BEGIN:STANDARD
TZOFFSETFROM:-0700
TZOFFSETTO:-0800
TZNAME:PST
DTSTART:20271107T090000
END:STANDARD
END:VTIMEZONE
BEGIN:VEVENT
DTSTART;TZID=America/Los_Angeles:20240919T100000
DTEND;TZID=America/Los_Angeles:20240919T103000
DTSTAMP:20260422T160442
CREATED:20240917T015502Z
LAST-MODIFIED:20240917T015805Z
UID:3763-1726740000-1726741800@rdcgf.org
SUMMARY:Private Event - Cypress College Kickoff
DESCRIPTION:Hispanic Heritage Month Celebration.  Private event; closed to the public
URL:https://rdcgf.org/event/cypress-college-kickoff/
LOCATION:Cypress College\, Cypress\, CA\, 90630\, United States
END:VEVENT
BEGIN:VEVENT
DTSTART;TZID=America/Los_Angeles:20240921T140000
DTEND;TZID=America/Los_Angeles:20240921T143000
DTSTAMP:20260422T160442
CREATED:20240917T020454Z
LAST-MODIFIED:20240917T020758Z
UID:3772-1726927200-1726929000@rdcgf.org
SUMMARY:East Anaheim Library - Hispanic Heritage Celebration
DESCRIPTION:
URL:https://rdcgf.org/event/east-anaheim-library/
LOCATION:Anaheim Public Library – East Anaheim Branch\, 8201 E Santa Ana Canyon Rd\, Anaheim\, CA\, 92808\, United States
END:VEVENT
BEGIN:VEVENT
DTSTART;TZID=America/Los_Angeles:20241012T190000
DTEND;TZID=America/Los_Angeles:20241012T193000
DTSTAMP:20260422T160442
CREATED:20240917T023312Z
LAST-MODIFIED:20240917T023312Z
UID:3776-1728759600-1728761400@rdcgf.org
SUMMARY:Main Place Mall - Dia de Los Muertos Event
DESCRIPTION:Day of the Dead Celebration – Open to the public.
URL:https://rdcgf.org/event/main-place-mall-dia-de-los-muertos-event/
LOCATION:MainPlace Mall\, 2800 N. Main Street\, Santa Ana\, CA\, 92705\, United States
END:VEVENT
BEGIN:VEVENT
DTSTART;TZID=America/Los_Angeles:20260207T190000
DTEND;TZID=America/Los_Angeles:20260207T220000
DTSTAMP:20260422T160442
CREATED:20260114T181950Z
LAST-MODIFIED:20260114T182733Z
UID:4201-1770490800-1770501600@rdcgf.org
SUMMARY:Nuestros Trajes: RDC History in Costume
DESCRIPTION:
URL:https://rdcgf.org/event/nuestros-trajes-rdc-history-in-costume/
LOCATION:Santa Ana College\, 1530 W 17th St\, Santa Ana\, CA\, 92870\, United States
CATEGORIES:Cultural Event
END:VEVENT
BEGIN:VEVENT
DTSTART;TZID=America/Los_Angeles:20260307T190000
DTEND;TZID=America/Los_Angeles:20260307T220000
DTSTAMP:20260422T160442
CREATED:20260114T183021Z
LAST-MODIFIED:20260114T183021Z
UID:4207-1772910000-1772920800@rdcgf.org
SUMMARY:50th Anniversary Student Showcase
DESCRIPTION:
URL:https://rdcgf.org/event/50th-anniversary-student-showcase/
LOCATION:Santa Ana High School\, 520 W. Walnut St.\, Santa Ana\, CA\, 92701\, United States
CATEGORIES:Performances
END:VEVENT
BEGIN:VEVENT
DTSTART;TZID=America/Los_Angeles:20260502T170000
DTEND;TZID=America/Los_Angeles:20260502T220000
DTSTAMP:20260422T160442
CREATED:20260114T183220Z
LAST-MODIFIED:20260114T183235Z
UID:4210-1777741200-1777759200@rdcgf.org
SUMMARY:50th Anniversary Gala Banquet
DESCRIPTION:
URL:https://rdcgf.org/event/gala-banquet/
LOCATION:Santa Ana Elks Lodge\, 1751 S Elk Ln\, Santa Ana\, CA\, 92705\, United States
CATEGORIES:Gala
END:VEVENT
BEGIN:VEVENT
DTSTART;TZID=America/Los_Angeles:20260815T190000
DTEND;TZID=America/Los_Angeles:20260815T220000
DTSTAMP:20260422T160442
CREATED:20260114T183409Z
LAST-MODIFIED:20260114T183409Z
UID:4214-1786820400-1786831200@rdcgf.org
SUMMARY:50th Anniversary Gala Concert
DESCRIPTION:
URL:https://rdcgf.org/event/50th-anniversary-gala-concert/
LOCATION:Musco Center for Arts\, One University Drive\, Orange\, CA\, 92866\, United States
CATEGORIES:Performances
END:VEVENT
END:VCALENDAR