BEGIN:VCALENDAR
VERSION:2.0
PRODID:-//Relampago del Cielo Grupo Folklorico - ECPv6.15.20//NONSGML v1.0//EN
CALSCALE:GREGORIAN
METHOD:PUBLISH
X-WR-CALNAME:Relampago del Cielo Grupo Folklorico
X-ORIGINAL-URL:https://rdcgf.org
X-WR-CALDESC:Events for Relampago del Cielo Grupo Folklorico
REFRESH-INTERVAL;VALUE=DURATION:PT1H
X-Robots-Tag:noindex
X-PUBLISHED-TTL:PT1H
BEGIN:VTIMEZONE
TZID:America/Los_Angeles
BEGIN:DAYLIGHT
TZOFFSETFROM:-0800
TZOFFSETTO:-0700
TZNAME:PDT
DTSTART:20210314T100000
END:DAYLIGHT
BEGIN:STANDARD
TZOFFSETFROM:-0700
TZOFFSETTO:-0800
TZNAME:PST
DTSTART:20211107T090000
END:STANDARD
BEGIN:DAYLIGHT
TZOFFSETFROM:-0800
TZOFFSETTO:-0700
TZNAME:PDT
DTSTART:20220313T100000
END:DAYLIGHT
BEGIN:STANDARD
TZOFFSETFROM:-0700
TZOFFSETTO:-0800
TZNAME:PST
DTSTART:20221106T090000
END:STANDARD
BEGIN:DAYLIGHT
TZOFFSETFROM:-0800
TZOFFSETTO:-0700
TZNAME:PDT
DTSTART:20230312T100000
END:DAYLIGHT
BEGIN:STANDARD
TZOFFSETFROM:-0700
TZOFFSETTO:-0800
TZNAME:PST
DTSTART:20231105T090000
END:STANDARD
BEGIN:DAYLIGHT
TZOFFSETFROM:-0800
TZOFFSETTO:-0700
TZNAME:PDT
DTSTART:20240310T100000
END:DAYLIGHT
BEGIN:STANDARD
TZOFFSETFROM:-0700
TZOFFSETTO:-0800
TZNAME:PST
DTSTART:20241103T090000
END:STANDARD
BEGIN:DAYLIGHT
TZOFFSETFROM:-0800
TZOFFSETTO:-0700
TZNAME:PDT
DTSTART:20250309T100000
END:DAYLIGHT
BEGIN:STANDARD
TZOFFSETFROM:-0700
TZOFFSETTO:-0800
TZNAME:PST
DTSTART:20251102T090000
END:STANDARD
BEGIN:DAYLIGHT
TZOFFSETFROM:-0800
TZOFFSETTO:-0700
TZNAME:PDT
DTSTART:20260308T100000
END:DAYLIGHT
BEGIN:STANDARD
TZOFFSETFROM:-0700
TZOFFSETTO:-0800
TZNAME:PST
DTSTART:20261101T090000
END:STANDARD
BEGIN:DAYLIGHT
TZOFFSETFROM:-0800
TZOFFSETTO:-0700
TZNAME:PDT
DTSTART:20270314T100000
END:DAYLIGHT
BEGIN:STANDARD
TZOFFSETFROM:-0700
TZOFFSETTO:-0800
TZNAME:PST
DTSTART:20271107T090000
END:STANDARD
END:VTIMEZONE
BEGIN:VEVENT
DTSTART;TZID=America/Los_Angeles:20260502T170000
DTEND;TZID=America/Los_Angeles:20260502T220000
DTSTAMP:20260419T150751
CREATED:20260114T183220Z
LAST-MODIFIED:20260114T183235Z
UID:4210-1777741200-1777759200@rdcgf.org
SUMMARY:50th Anniversary Gala Banquet
DESCRIPTION:
URL:https://rdcgf.org/event/gala-banquet/
LOCATION:Santa Ana Elks Lodge\, 1751 S Elk Ln\, Santa Ana\, CA\, 92705\, United States
CATEGORIES:Gala
END:VEVENT
BEGIN:VEVENT
DTSTART;TZID=America/Los_Angeles:20260307T190000
DTEND;TZID=America/Los_Angeles:20260307T220000
DTSTAMP:20260419T150751
CREATED:20260114T183021Z
LAST-MODIFIED:20260114T183021Z
UID:4207-1772910000-1772920800@rdcgf.org
SUMMARY:50th Anniversary Student Showcase
DESCRIPTION:
URL:https://rdcgf.org/event/50th-anniversary-student-showcase/
LOCATION:Santa Ana High School\, 520 W. Walnut St.\, Santa Ana\, CA\, 92701\, United States
CATEGORIES:Performances
END:VEVENT
BEGIN:VEVENT
DTSTART;TZID=America/Los_Angeles:20260207T190000
DTEND;TZID=America/Los_Angeles:20260207T220000
DTSTAMP:20260419T150751
CREATED:20260114T181950Z
LAST-MODIFIED:20260114T182733Z
UID:4201-1770490800-1770501600@rdcgf.org
SUMMARY:Nuestros Trajes: RDC History in Costume
DESCRIPTION:
URL:https://rdcgf.org/event/nuestros-trajes-rdc-history-in-costume/
LOCATION:Santa Ana College\, 1530 W 17th St\, Santa Ana\, CA\, 92870\, United States
CATEGORIES:Cultural Event
END:VEVENT
BEGIN:VEVENT
DTSTART;TZID=America/Los_Angeles:20241012T190000
DTEND;TZID=America/Los_Angeles:20241012T193000
DTSTAMP:20260419T150751
CREATED:20240917T023312Z
LAST-MODIFIED:20240917T023312Z
UID:3776-1728759600-1728761400@rdcgf.org
SUMMARY:Main Place Mall - Dia de Los Muertos Event
DESCRIPTION:Day of the Dead Celebration – Open to the public.
URL:https://rdcgf.org/event/main-place-mall-dia-de-los-muertos-event/
LOCATION:MainPlace Mall\, 2800 N. Main Street\, Santa Ana\, CA\, 92705\, United States
END:VEVENT
BEGIN:VEVENT
DTSTART;TZID=America/Los_Angeles:20240921T140000
DTEND;TZID=America/Los_Angeles:20240921T143000
DTSTAMP:20260419T150751
CREATED:20240917T020454Z
LAST-MODIFIED:20240917T020758Z
UID:3772-1726927200-1726929000@rdcgf.org
SUMMARY:East Anaheim Library - Hispanic Heritage Celebration
DESCRIPTION:
URL:https://rdcgf.org/event/east-anaheim-library/
LOCATION:Anaheim Public Library – East Anaheim Branch\, 8201 E Santa Ana Canyon Rd\, Anaheim\, CA\, 92808\, United States
END:VEVENT
BEGIN:VEVENT
DTSTART;TZID=America/Los_Angeles:20240919T100000
DTEND;TZID=America/Los_Angeles:20240919T103000
DTSTAMP:20260419T150751
CREATED:20240917T015502Z
LAST-MODIFIED:20240917T015805Z
UID:3763-1726740000-1726741800@rdcgf.org
SUMMARY:Private Event - Cypress College Kickoff
DESCRIPTION:Hispanic Heritage Month Celebration.  Private event; closed to the public
URL:https://rdcgf.org/event/cypress-college-kickoff/
LOCATION:Cypress College\, Cypress\, CA\, 90630\, United States
END:VEVENT
BEGIN:VEVENT
DTSTART;TZID=America/Los_Angeles:20240817T193000
DTEND;TZID=America/Los_Angeles:20240817T223000
DTSTAMP:20260419T150751
CREATED:20240705T165054Z
LAST-MODIFIED:20240705T165054Z
UID:3661-1723923000-1723933800@rdcgf.org
SUMMARY:La Cultura Colorida - Concert at Musco Center For Arts
DESCRIPTION:
URL:https://rdcgf.org/event/la-cultura-colorida-concert-at-musco-center-for-arts/
LOCATION:Musco Center for Arts\, One University Drive\, Orange\, CA\, 92866\, United States
CATEGORIES:Performances
ATTACH;FMTTYPE=image/png:https://rdcgf.org/wp-content/uploads/2024/05/cultura-colorida.png
END:VEVENT
BEGIN:VEVENT
DTSTART;TZID=America/Los_Angeles:20231212T180000
DTEND;TZID=America/Los_Angeles:20231212T193000
DTSTAMP:20260419T150751
CREATED:20231208T010455Z
LAST-MODIFIED:20231208T010455Z
UID:3274-1702404000-1702409400@rdcgf.org
SUMMARY:Virgen de Guadalupe Celebration
DESCRIPTION:Virgen de Guadalupe Celebration \nFestive Vespers and Procession with traditional band beginning at 5pm.  Reception and entertainment to follow.
URL:https://rdcgf.org/event/virgen-de-guadalupe-celebration/
LOCATION:St. Michael’s Abbey\, 27977 Silverado Canyon Rd.\, Silverado\, CA\, 92676\, United States
END:VEVENT
BEGIN:VEVENT
DTSTART;TZID=America/Los_Angeles:20231015T113000
DTEND;TZID=America/Los_Angeles:20231015T120000
DTSTAMP:20260419T150751
CREATED:20231006T222542Z
LAST-MODIFIED:20231006T224207Z
UID:3259-1697369400-1697371200@rdcgf.org
SUMMARY:Downtown Disney Hispanic Heritage Celebration
DESCRIPTION:
URL:https://rdcgf.org/event/3259/
LOCATION:Downtown Disney\, 1500 S. Disneyland Drive\, Anaheim\, CA\, 92802
END:VEVENT
BEGIN:VEVENT
DTSTART;TZID=America/Los_Angeles:20231014T152500
DTEND;TZID=America/Los_Angeles:20231014T155500
DTSTAMP:20260419T150751
CREATED:20231006T223543Z
LAST-MODIFIED:20231006T224246Z
UID:3261-1697297100-1697298900@rdcgf.org
SUMMARY:Irvine Global Village Festival
DESCRIPTION:
URL:https://rdcgf.org/event/3261/
LOCATION:Great Park\, 8000 Great Park Blvd.\, Irvine\, CA\, 92618\, United States
END:VEVENT
BEGIN:VEVENT
DTSTART;TZID=America/Los_Angeles:20231009T080000
DTEND;TZID=America/Los_Angeles:20231009T100000
DTSTAMP:20260419T150751
CREATED:20231006T223831Z
LAST-MODIFIED:20231006T224316Z
UID:3263-1696838400-1696845600@rdcgf.org
SUMMARY:Private Event
DESCRIPTION:
URL:https://rdcgf.org/event/3263/
LOCATION:Frank C. Leal Elementary School\, 12920 Droxford St.\, Cerritos\, CA\, 90703
END:VEVENT
BEGIN:VEVENT
DTSTART;TZID=America/Los_Angeles:20231008T113000
DTEND;TZID=America/Los_Angeles:20231008T120000
DTSTAMP:20260419T150751
CREATED:20231006T222433Z
LAST-MODIFIED:20231006T224141Z
UID:3256-1696764600-1696766400@rdcgf.org
SUMMARY:Downtown Disney Hispanic Heritage Celebration
DESCRIPTION:
URL:https://rdcgf.org/event/3256/
LOCATION:Downtown Disney\, 1500 S. Disneyland Drive\, Anaheim\, CA\, 92802
END:VEVENT
BEGIN:VEVENT
DTSTART;TZID=America/Los_Angeles:20231007T133000
DTEND;TZID=America/Los_Angeles:20231007T140000
DTSTAMP:20260419T150751
CREATED:20231006T221840Z
LAST-MODIFIED:20231006T224041Z
UID:3253-1696685400-1696687200@rdcgf.org
SUMMARY:Hispanic Heritage @ Santa Ana Library
DESCRIPTION:
URL:https://rdcgf.org/event/3253/
LOCATION:Santa Ana Public Library\, 26 Civic Center Plaza\, Santa Ana\, CA\, 92701
END:VEVENT
BEGIN:VEVENT
DTSTART;TZID=America/Los_Angeles:20230729T193000
DTEND;TZID=America/Los_Angeles:20230729T220000
DTSTAMP:20260419T150751
CREATED:20230712T175835Z
LAST-MODIFIED:20230712T180524Z
UID:3094-1690659000-1690668000@rdcgf.org
SUMMARY:Querido Mexico Concert
DESCRIPTION:Buy Tickets
URL:https://rdcgf.org/event/querido-mexico-concert/
LOCATION:CA
CATEGORIES:Performances
ATTACH;FMTTYPE=image/jpeg:https://rdcgf.org/wp-content/uploads/2023/07/Banner-1920x700-1.jpg
END:VEVENT
BEGIN:VEVENT
DTSTART;TZID=America/Los_Angeles:20230604T151500
DTEND;TZID=America/Los_Angeles:20230604T154500
DTSTAMP:20260419T150751
CREATED:20230602T184210Z
LAST-MODIFIED:20230602T184852Z
UID:3042-1685891700-1685893500@rdcgf.org
SUMMARY:Heartbeat of Mexico - Family Festival
DESCRIPTION:FREE in-person family-friendly community event celebrating Mexican culture. The Family Festival is being held at Aitken Arts Plaza\, which is outside of the Musco Center on the Champman University campus. \nBring your own chairs or picnic blankets. Food will be for sale on-site\, and a full Festival Schedule is available on the Musco Center website.  Relámpago del Cielo is scheduled to perform at 3:15pm\, at Stage 2.  MexicoDayOfSchedule2023_FINAL
URL:https://rdcgf.org/event/heartbeat-of-mexico-family-festival/
LOCATION:Aitken Arts Plaza at Chapman University\, 415 N. Glassell Street\, Orange\, CA\, 92866\, United States
END:VEVENT
BEGIN:VEVENT
DTSTART;VALUE=DATE:20230331
DTEND;VALUE=DATE:20230403
DTSTAMP:20260419T150751
CREATED:20221222T211848Z
LAST-MODIFIED:20221222T212435Z
UID:2845-1680220800-1680479999@rdcgf.org
SUMMARY:Danzantes Unidos Festival 2023 "Bailar es Vivir"
DESCRIPTION:Relámpago del Cielo is pleased to announce our Artistic Director\, Marlene Peña-Marin\, will be teaching Folklorico High: Sinaloa Mestizo & Yucatan at Danzantes Unidos Festival 2023 “Bailar Es Vivir” in Fresno\, CA on March 31\, April 1 & 2. \nEarly Registration through December 27\, 2022 at www.danzantes.org
URL:https://rdcgf.org/event/danzantes-unidos-festival-2023-bailar-es-vivir/
LOCATION:Danzantes Unidos\, 1019 S Peach Ave\, Fresno\, CA\, 93727\, United States
CATEGORIES:Classes
ATTACH;FMTTYPE=image/png:https://rdcgf.org/wp-content/uploads/2022/12/duf2023.png
END:VEVENT
BEGIN:VEVENT
DTSTART;TZID=America/Los_Angeles:20221106T130000
DTEND;TZID=America/Los_Angeles:20221106T150000
DTSTAMP:20260419T150751
CREATED:20221007T185736Z
LAST-MODIFIED:20221007T191609Z
UID:2755-1667739600-1667746800@rdcgf.org
SUMMARY:Dia de Los Muertos Celebration
DESCRIPTION:This is a celebration for Dia de Los Muertos at Bowers Museum. This event will include face painting\, Calavera masks\, sugar skull decorating\, mariachi\, classical guitar and a group playing traditional music of Mexico. Free samples of Mexican Hot Chocolate and pan de muerto will be available. Tamales will be available for purchase.
URL:https://rdcgf.org/event/dia-de-los-muertos-celebration/
LOCATION:Bowers Museum\, 2002 N. Main St.\, Santa Ana\, CA\, 92706\, United States
END:VEVENT
BEGIN:VEVENT
DTSTART;TZID=America/Los_Angeles:20221105T173000
DTEND;TZID=America/Los_Angeles:20221105T180000
DTSTAMP:20260419T150751
CREATED:20221007T185337Z
LAST-MODIFIED:20221007T185337Z
UID:2751-1667669400-1667671200@rdcgf.org
SUMMARY:Viva La Vida
DESCRIPTION:Join Viva La Vida and the community of Santa Ana as we gather to celebrate Dia de los muertos. Beautiful altars dedicated to loved ones will line the streets\, as the sound of live performances and entertainment fill the air. This is an annual tradition that you do not want to miss.
URL:https://rdcgf.org/event/viva-la-vida/
LOCATION:Downtown Santa Ana\, Between 4th and Spurgeon\, Santa Ana\, CA\, United States
END:VEVENT
BEGIN:VEVENT
DTSTART;TZID=America/Los_Angeles:20221008T153500
DTEND;TZID=America/Los_Angeles:20221008T160500
DTSTAMP:20260419T150751
CREATED:20220928T174907Z
LAST-MODIFIED:20221007T184944Z
UID:2736-1665243300-1665245100@rdcgf.org
SUMMARY:Irvine Global Village
DESCRIPTION:Orange County’s premier multicultural event\, the Irvine Global Village Festival\, returns to Great Park this year for a full day of food\, art\, music\, and a celebration of Irvine’s diverse community. Join as we celebrate 21 years of fun. The annual festival incorporates the best of Irvine’s historic fall festivals and includes kids’ activities\, local and global cuisine\, a global marketplace\, music\, art\, and exhibits.
URL:https://rdcgf.org/event/irvine-global-village/
LOCATION:Great Park\, 8000 Great Park Blvd.\, Irvine\, CA\, 92618\, United States
END:VEVENT
BEGIN:VEVENT
DTSTART;TZID=America/Los_Angeles:20221002T110000
DTEND;TZID=America/Los_Angeles:20221002T130000
DTSTAMP:20260419T150751
CREATED:20220926T174559Z
LAST-MODIFIED:20220928T175111Z
UID:2725-1664708400-1664715600@rdcgf.org
SUMMARY:OC Children's Book Fair
DESCRIPTION:
URL:https://rdcgf.org/event/oc-childrens-book-fair/
LOCATION:Orange Coast College\, 2701 Fairview Road\, Costa Mesa\, CA\, United States
CATEGORIES:Performances
END:VEVENT
END:VCALENDAR