BEGIN:VCALENDAR
VERSION:2.0
PRODID:-//Relampago del Cielo Grupo Folklorico - ECPv6.15.20//NONSGML v1.0//EN
CALSCALE:GREGORIAN
METHOD:PUBLISH
X-ORIGINAL-URL:https://rdcgf.org
X-WR-CALDESC:Events for Relampago del Cielo Grupo Folklorico
REFRESH-INTERVAL;VALUE=DURATION:PT1H
X-Robots-Tag:noindex
X-PUBLISHED-TTL:PT1H
BEGIN:VTIMEZONE
TZID:America/Los_Angeles
BEGIN:DAYLIGHT
TZOFFSETFROM:-0800
TZOFFSETTO:-0700
TZNAME:PDT
DTSTART:20220313T100000
END:DAYLIGHT
BEGIN:STANDARD
TZOFFSETFROM:-0700
TZOFFSETTO:-0800
TZNAME:PST
DTSTART:20221106T090000
END:STANDARD
BEGIN:DAYLIGHT
TZOFFSETFROM:-0800
TZOFFSETTO:-0700
TZNAME:PDT
DTSTART:20230312T100000
END:DAYLIGHT
BEGIN:STANDARD
TZOFFSETFROM:-0700
TZOFFSETTO:-0800
TZNAME:PST
DTSTART:20231105T090000
END:STANDARD
BEGIN:DAYLIGHT
TZOFFSETFROM:-0800
TZOFFSETTO:-0700
TZNAME:PDT
DTSTART:20240310T100000
END:DAYLIGHT
BEGIN:STANDARD
TZOFFSETFROM:-0700
TZOFFSETTO:-0800
TZNAME:PST
DTSTART:20241103T090000
END:STANDARD
END:VTIMEZONE
BEGIN:VEVENT
DTSTART;VALUE=DATE:20230331
DTEND;VALUE=DATE:20230403
DTSTAMP:20260419T170638
CREATED:20221222T211848Z
LAST-MODIFIED:20221222T212435Z
UID:2845-1680220800-1680479999@rdcgf.org
SUMMARY:Danzantes Unidos Festival 2023 "Bailar es Vivir"
DESCRIPTION:Relámpago del Cielo is pleased to announce our Artistic Director\, Marlene Peña-Marin\, will be teaching Folklorico High: Sinaloa Mestizo & Yucatan at Danzantes Unidos Festival 2023 “Bailar Es Vivir” in Fresno\, CA on March 31\, April 1 & 2. \nEarly Registration through December 27\, 2022 at www.danzantes.org
URL:https://rdcgf.org/event/danzantes-unidos-festival-2023-bailar-es-vivir/
LOCATION:Danzantes Unidos\, 1019 S Peach Ave\, Fresno\, CA\, 93727\, United States
CATEGORIES:Classes
ATTACH;FMTTYPE=image/png:https://rdcgf.org/wp-content/uploads/2022/12/duf2023.png
END:VEVENT
END:VCALENDAR